BEGIN:VCALENDAR
VERSION:2.0
PRODID:-//CCRD//1.0//FR
CALSCALE:GREGORIAN
BEGIN:VTIMEZONE
TZID:Europe/Zurich
BEGIN:DAYLIGHT
TZOFFSETFROM:+0100
RRULE:FREQ=YEARLY;BYMONTH=3;BYDAY=-1SU
DTSTART:19810329T020000
TZNAME:UTC+2
TZOFFSETTO:+0200
END:DAYLIGHT
BEGIN:STANDARD
TZOFFSETFROM:+0200
RRULE:FREQ=YEARLY;BYMONTH=10;BYDAY=-1SU
DTSTART:19961027T030000
TZNAME:UTC+1
TZOFFSETTO:+0100
END:STANDARD
END:VTIMEZONE
BEGIN:VEVENT
UID:i4robJY0nQcZTjJtK3i5rKbn0b7pST5nQ7RKY6NS.culturoscope.ch
DTSTART;TZID=Europe/Zurich:20210910T190000
DTEND;TZID=Europe/Zurich:20211024T170000
TRANSP:OPAQUE
X-APPLE-TRAVEL-ADVISORY-BEHAVIOR:AUTOMATIC
SUMMARY:Daniel Mueller
LOCATION:Centre de Culture & de Loisirs Rue d’la Zouc 6 2610 St-Imier
DTSTAMP:20260422T213832Z
SEQUENCE:0
END:VEVENT
END:VCALENDAR
