BEGIN:VCALENDAR
VERSION:2.0
PRODID:-//CCRD//1.0//FR
CALSCALE:GREGORIAN
BEGIN:VTIMEZONE
TZID:Europe/Zurich
BEGIN:DAYLIGHT
TZOFFSETFROM:+0100
RRULE:FREQ=YEARLY;BYMONTH=3;BYDAY=-1SU
DTSTART:19810329T020000
TZNAME:UTC+2
TZOFFSETTO:+0200
END:DAYLIGHT
BEGIN:STANDARD
TZOFFSETFROM:+0200
RRULE:FREQ=YEARLY;BYMONTH=10;BYDAY=-1SU
DTSTART:19961027T030000
TZNAME:UTC+1
TZOFFSETTO:+0100
END:STANDARD
END:VTIMEZONE
BEGIN:VEVENT
UID:4MXjLKx9J74mqWBx0yB64ksGEw2nKA6dLmdAV8Gi.culturoscope.ch
DTSTART;TZID=Europe/Zurich:20211113T120000
DTEND;TZID=Europe/Zurich:20211219T120000
TRANSP:OPAQUE
X-APPLE-TRAVEL-ADVISORY-BEHAVIOR:AUTOMATIC
SUMMARY:Benoît Dutour 
LOCATION:Porrentruy Optical Art (POPA) 42, Rue Pierre-Péquignat 2900 Porrentruy
DTSTAMP:20260420T001623Z
SEQUENCE:0
END:VEVENT
END:VCALENDAR
