BEGIN:VCALENDAR
VERSION:2.0
PRODID:-//CCRD//1.0//FR
CALSCALE:GREGORIAN
BEGIN:VTIMEZONE
TZID:Europe/Zurich
BEGIN:DAYLIGHT
TZOFFSETFROM:+0100
RRULE:FREQ=YEARLY;BYMONTH=3;BYDAY=-1SU
DTSTART:19810329T020000
TZNAME:UTC+2
TZOFFSETTO:+0200
END:DAYLIGHT
BEGIN:STANDARD
TZOFFSETFROM:+0200
RRULE:FREQ=YEARLY;BYMONTH=10;BYDAY=-1SU
DTSTART:19961027T030000
TZNAME:UTC+1
TZOFFSETTO:+0100
END:STANDARD
END:VTIMEZONE
BEGIN:VEVENT
UID:5yMBiGJyxmM4JsefsOgCVz4LxLkVYdMkOb8dXdyv.culturoscope.ch
DTSTART;TZID=Europe/Zurich:20261115T170000
DTEND;TZID=Europe/Zurich:20261115T190000
TRANSP:OPAQUE
X-APPLE-TRAVEL-ADVISORY-BEHAVIOR:AUTOMATIC
SUMMARY:Concert de la chorale Tramlasol
LOCATION:Eglise protestante Grand-Rue 146a 2720 Tramelan
DTSTAMP:20260420T080034Z
SEQUENCE:0
END:VEVENT
END:VCALENDAR
