BEGIN:VCALENDAR
VERSION:2.0
PRODID:-//CCRD//1.0//FR
CALSCALE:GREGORIAN
BEGIN:VTIMEZONE
TZID:Europe/Zurich
BEGIN:DAYLIGHT
TZOFFSETFROM:+0100
RRULE:FREQ=YEARLY;BYMONTH=3;BYDAY=-1SU
DTSTART:19810329T020000
TZNAME:UTC+2
TZOFFSETTO:+0200
END:DAYLIGHT
BEGIN:STANDARD
TZOFFSETFROM:+0200
RRULE:FREQ=YEARLY;BYMONTH=10;BYDAY=-1SU
DTSTART:19961027T030000
TZNAME:UTC+1
TZOFFSETTO:+0100
END:STANDARD
END:VTIMEZONE
BEGIN:VEVENT
UID:7n664e4NI1rlfHsikomq1kWf2eYIG5Bi7XrFQFkR.culturoscope.ch
DTSTART;TZID=Europe/Zurich:20250321T140000
DTEND;TZID=Europe/Zurich:20250427T170000
TRANSP:OPAQUE
X-APPLE-TRAVEL-ADVISORY-BEHAVIOR:AUTOMATIC
SUMMARY:Faire lien, faire lieu
LOCATION:Quartier Général Rue du Commerce 122 2300 La Chaux-de-Fonds
DTSTAMP:20260424T223349Z
SEQUENCE:0
END:VEVENT
END:VCALENDAR
