BEGIN:VCALENDAR
VERSION:2.0
PRODID:-//CCRD//1.0//FR
CALSCALE:GREGORIAN
BEGIN:VTIMEZONE
TZID:Europe/Zurich
BEGIN:DAYLIGHT
TZOFFSETFROM:+0100
RRULE:FREQ=YEARLY;BYMONTH=3;BYDAY=-1SU
DTSTART:19810329T020000
TZNAME:UTC+2
TZOFFSETTO:+0200
END:DAYLIGHT
BEGIN:STANDARD
TZOFFSETFROM:+0200
RRULE:FREQ=YEARLY;BYMONTH=10;BYDAY=-1SU
DTSTART:19961027T030000
TZNAME:UTC+1
TZOFFSETTO:+0100
END:STANDARD
END:VTIMEZONE
BEGIN:VEVENT
UID:frVT557Vs7doSXlnNjPa5OToQEFwGxtgPqwm8XyS.culturoscope.ch
DTSTART;TZID=Europe/Zurich:20231125T100000
DTEND;TZID=Europe/Zurich:20231223T160000
TRANSP:OPAQUE
X-APPLE-TRAVEL-ADVISORY-BEHAVIOR:AUTOMATIC
SUMMARY:ARTY SHOW La Chaux-de-Fonds -  L’Art en vitrine
LOCATION:Terrame – Christophe Chocolatier – Origali – materiotek-mercerie – Magasins du monde – Cordonnerie – O Tango – Coiffure Michel Russo – Meubles Leitenberg – Admir Cafés – Le Loft Coiffure – L’Elite – Café du Coin – La Bohème –  Down Town – Winiger Horloger Pl. du Marché, Neuve 4 2300 La Chaux-de-Fonds
DTSTAMP:20260419T230838Z
SEQUENCE:0
END:VEVENT
END:VCALENDAR
